Package: ORFik Version: 1.26.1 Command: F:\biocbuild\bbs-3.20-bioc\R\bin\R.exe CMD check --no-multiarch --install=check:ORFik.install-out.txt --library=F:\biocbuild\bbs-3.20-bioc\R\library --no-vignettes --timings ORFik_1.26.1.tar.gz StartedAt: 2025-01-31 04:47:50 -0500 (Fri, 31 Jan 2025) EndedAt: 2025-01-31 05:05:40 -0500 (Fri, 31 Jan 2025) EllapsedTime: 1069.9 seconds RetCode: 0 Status: WARNINGS CheckDir: ORFik.Rcheck Warnings: 1