Package: ORFik Version: 1.26.1 Command: /home/biocbuild/bbs-3.20-bioc/R/bin/R CMD INSTALL ORFik StartedAt: 2025-01-30 15:29:36 -0500 (Thu, 30 Jan 2025) EndedAt: 2025-01-30 15:30:54 -0500 (Thu, 30 Jan 2025) EllapsedTime: 77.8 seconds RetCode: 0 Status: OK