Package: ORFik Version: 1.26.1 Command: /home/biocbuild/bbs-3.20-bioc/R/bin/R CMD check --install=check:ORFik.install-out.txt --library=/home/biocbuild/bbs-3.20-bioc/R/site-library --timings ORFik_1.26.1.tar.gz StartedAt: 2025-01-31 00:45:18 -0500 (Fri, 31 Jan 2025) EndedAt: 2025-01-31 01:02:32 -0500 (Fri, 31 Jan 2025) EllapsedTime: 1033.5 seconds RetCode: 0 Status: WARNINGS CheckDir: ORFik.Rcheck Warnings: 1