Package: ORFik Version: 1.26.1 Command: /Library/Frameworks/R.framework/Resources/bin/R CMD INSTALL ORFik StartedAt: 2025-01-30 16:32:28 -0500 (Thu, 30 Jan 2025) EndedAt: 2025-01-30 16:33:49 -0500 (Thu, 30 Jan 2025) EllapsedTime: 81.0 seconds RetCode: 0 Status: OK