Package: OMICsPCA Version: 1.24.0 Command: /home/biocbuild/R/R/bin/R CMD build --keep-empty-dirs --no-resave-data OMICsPCA StartedAt: 2025-01-31 01:28:28 -0000 (Fri, 31 Jan 2025) EndedAt: 2025-01-31 01:31:48 -0000 (Fri, 31 Jan 2025) EllapsedTime: 200.2 seconds RetCode: 0 Status: OK PackageFile: OMICsPCA_1.24.0.tar.gz PackageFileSize: 2.419 MiB