Package: OGRE Version: 1.10.0 Command: rm -rf OGRE.buildbin-libdir && mkdir OGRE.buildbin-libdir && F:\biocbuild\bbs-3.20-bioc\R\bin\R.exe CMD INSTALL --build --library=OGRE.buildbin-libdir OGRE_1.10.0.tar.gz StartedAt: 2025-01-31 09:12:05 -0500 (Fri, 31 Jan 2025) EndedAt: 2025-01-31 09:13:15 -0500 (Fri, 31 Jan 2025) EllapsedTime: 69.3 seconds RetCode: 0 Status: OK PackageFile: OGRE_1.10.0.zip PackageFileSize: 1.059 MiB