Package: OGRE Version: 1.10.0 Command: /Library/Frameworks/R.framework/Resources/bin/R CMD INSTALL OGRE StartedAt: 2025-01-30 16:57:49 -0500 (Thu, 30 Jan 2025) EndedAt: 2025-01-30 16:58:50 -0500 (Thu, 30 Jan 2025) EllapsedTime: 60.7 seconds RetCode: 0 Status: OK