Package: OGRE Version: 1.10.0 Command: /Library/Frameworks/R.framework/Resources/bin/R CMD check --install=check:OGRE.install-out.txt --library=/Library/Frameworks/R.framework/Resources/library --no-vignettes --timings OGRE_1.10.0.tar.gz StartedAt: 2025-02-01 03:29:05 -0500 (Sat, 01 Feb 2025) EndedAt: 2025-02-01 03:37:41 -0500 (Sat, 01 Feb 2025) EllapsedTime: 515.3 seconds RetCode: 0 Status: OK CheckDir: OGRE.Rcheck Warnings: 0