Package: OGRE Version: 1.10.0 Command: /Library/Frameworks/R.framework/Resources/bin/R CMD build --keep-empty-dirs --no-resave-data OGRE StartedAt: 2025-01-31 04:44:22 -0500 (Fri, 31 Jan 2025) EndedAt: 2025-01-31 04:46:23 -0500 (Fri, 31 Jan 2025) EllapsedTime: 121.2 seconds RetCode: 0 Status: OK PackageFile: OGRE_1.10.0.tar.gz PackageFileSize: 1.73 MiB