Package: NormqPCR Version: 1.52.0 Command: rm -rf NormqPCR.buildbin-libdir && mkdir NormqPCR.buildbin-libdir && F:\biocbuild\bbs-3.20-bioc\R\bin\R.exe CMD INSTALL --build --library=NormqPCR.buildbin-libdir NormqPCR_1.52.0.tar.gz StartedAt: 2025-01-31 09:11:31 -0500 (Fri, 31 Jan 2025) EndedAt: 2025-01-31 09:11:54 -0500 (Fri, 31 Jan 2025) EllapsedTime: 22.3 seconds RetCode: 0 Status: OK PackageFile: NormqPCR_1.52.0.zip PackageFileSize: 378.3 KiB