Package: NormqPCR Version: 1.52.0 Command: /Library/Frameworks/R.framework/Resources/bin/R CMD build --keep-empty-dirs --no-resave-data NormqPCR StartedAt: 2025-01-30 21:28:58 -0500 (Thu, 30 Jan 2025) EndedAt: 2025-01-30 21:29:55 -0500 (Thu, 30 Jan 2025) EllapsedTime: 56.5 seconds RetCode: 0 Status: OK PackageFile: NormqPCR_1.52.0.tar.gz PackageFileSize: 417.7 KiB