Package: NormqPCR Version: 1.52.0 Command: /Library/Frameworks/R.framework/Resources/bin/R CMD check --install=check:NormqPCR.install-out.txt --library=/Library/Frameworks/R.framework/Resources/library --no-vignettes --timings NormqPCR_1.52.0.tar.gz StartedAt: 2025-02-01 03:22:27 -0500 (Sat, 01 Feb 2025) EndedAt: 2025-02-01 03:24:01 -0500 (Sat, 01 Feb 2025) EllapsedTime: 94.1 seconds RetCode: 0 Status: OK CheckDir: NormqPCR.Rcheck Warnings: 0