Package: NeuCA Version: 1.12.0 Command: /home/biocbuild/R/R/bin/R CMD INSTALL NeuCA StartedAt: 2025-01-30 20:38:28 -0000 (Thu, 30 Jan 2025) EndedAt: 2025-01-30 20:38:57 -0000 (Thu, 30 Jan 2025) EllapsedTime: 29.5 seconds RetCode: 0 Status: OK