Package: NeuCA Version: 1.12.0 Command: chmod a+r NeuCA -R && F:\biocbuild\bbs-3.20-bioc\R\bin\R.exe CMD build --keep-empty-dirs --no-resave-data NeuCA StartedAt: 2025-01-30 20:34:24 -0500 (Thu, 30 Jan 2025) EndedAt: 2025-01-30 20:36:26 -0500 (Thu, 30 Jan 2025) EllapsedTime: 122.0 seconds RetCode: 1 Status: ERROR PackageFile: None PackageFileSize: NA