Package: NeuCA Version: 1.12.0 Command: /home/biocbuild/bbs-3.20-bioc/R/bin/R CMD build --keep-empty-dirs --no-resave-data --md5 NeuCA StartedAt: 2025-01-30 18:20:44 -0500 (Thu, 30 Jan 2025) EndedAt: 2025-01-30 18:21:48 -0500 (Thu, 30 Jan 2025) EllapsedTime: 64.1 seconds RetCode: 1 Status: ERROR PackageFile: None PackageFileSize: NA