Package: NetSAM Version: 1.46.0 Command: rm -rf NetSAM.buildbin-libdir && mkdir NetSAM.buildbin-libdir && /Users/biocbuild/BBS/utils/build-universal.sh NetSAM_1.46.0.tar.gz /Library/Frameworks/R.framework/Resources/bin/R NetSAM.buildbin-libdir StartedAt: 2024-11-20 04:39:57 -0500 (Wed, 20 Nov 2024) EndedAt: 2024-11-20 04:40:34 -0500 (Wed, 20 Nov 2024) EllapsedTime: 36.7 seconds RetCode: 0 Status: OK PackageFile: NetSAM_1.46.0.tgz PackageFileSize: 1.233 MiB