Package: NanoTube Version: 1.12.0 Command: rm -rf NanoTube.buildbin-libdir && mkdir NanoTube.buildbin-libdir && F:\biocbuild\bbs-3.20-bioc\R\bin\R.exe CMD INSTALL --build --library=NanoTube.buildbin-libdir NanoTube_1.12.0.tar.gz StartedAt: 2025-01-31 09:10:00 -0500 (Fri, 31 Jan 2025) EndedAt: 2025-01-31 09:10:36 -0500 (Fri, 31 Jan 2025) EllapsedTime: 36.4 seconds RetCode: 0 Status: OK PackageFile: NanoTube_1.12.0.zip PackageFileSize: 1.9 MiB