Package: NanoTube Version: 1.12.0 Command: /home/biocbuild/bbs-3.20-bioc/R/bin/R CMD INSTALL NanoTube StartedAt: 2025-01-30 15:48:42 -0500 (Thu, 30 Jan 2025) EndedAt: 2025-01-30 15:48:53 -0500 (Thu, 30 Jan 2025) EllapsedTime: 11.0 seconds RetCode: 0 Status: OK