Package: NanoTube Version: 1.12.0 Command: /Library/Frameworks/R.framework/Resources/bin/R CMD check --install=check:NanoTube.install-out.txt --library=/Library/Frameworks/R.framework/Resources/library --no-vignettes --timings NanoTube_1.12.0.tar.gz StartedAt: 2025-02-01 03:01:43 -0500 (Sat, 01 Feb 2025) EndedAt: 2025-02-01 03:03:31 -0500 (Sat, 01 Feb 2025) EllapsedTime: 108.4 seconds RetCode: 0 Status: OK CheckDir: NanoTube.Rcheck Warnings: 0