Package: NPARC Version: 1.18.0 Command: /home/biocbuild/R/R/bin/R CMD check --install=check:NPARC.install-out.txt --library=/home/biocbuild/R/R/site-library --no-vignettes --timings NPARC_1.18.0.tar.gz StartedAt: 2025-01-31 08:44:38 -0000 (Fri, 31 Jan 2025) EndedAt: 2025-01-31 08:45:39 -0000 (Fri, 31 Jan 2025) EllapsedTime: 61.1 seconds RetCode: 0 Status: OK CheckDir: NPARC.Rcheck Warnings: 0