Package: NOISeq Version: 2.50.0 Command: /home/biocbuild/bbs-3.20-bioc/R/bin/R CMD INSTALL NOISeq StartedAt: 2025-01-30 15:04:57 -0500 (Thu, 30 Jan 2025) EndedAt: 2025-01-30 15:05:08 -0500 (Thu, 30 Jan 2025) EllapsedTime: 10.5 seconds RetCode: 0 Status: OK