Package: NOISeq Version: 2.50.0 Command: /Library/Frameworks/R.framework/Resources/bin/R CMD build --keep-empty-dirs --no-resave-data NOISeq StartedAt: 2025-01-31 04:38:17 -0500 (Fri, 31 Jan 2025) EndedAt: 2025-01-31 04:39:36 -0500 (Fri, 31 Jan 2025) EllapsedTime: 79.2 seconds RetCode: 0 Status: OK PackageFile: NOISeq_2.50.0.tar.gz PackageFileSize: 2.057 MiB