Package: NADfinder Version: 1.30.0 Command: /home/biocbuild/R/R/bin/R CMD INSTALL NADfinder StartedAt: 2025-01-30 20:58:37 -0000 (Thu, 30 Jan 2025) EndedAt: 2025-01-30 21:00:03 -0000 (Thu, 30 Jan 2025) EllapsedTime: 85.5 seconds RetCode: 0 Status: OK