Package: NADfinder Version: 1.30.0 Command: /Library/Frameworks/R.framework/Resources/bin/R CMD build --keep-empty-dirs --no-resave-data NADfinder StartedAt: 2025-01-30 21:19:59 -0500 (Thu, 30 Jan 2025) EndedAt: 2025-01-30 21:29:09 -0500 (Thu, 30 Jan 2025) EllapsedTime: 550.0 seconds RetCode: 0 Status: OK PackageFile: NADfinder_1.30.0.tar.gz PackageFileSize: 6.013 MiB