Package: NADfinder Version: 1.30.0 Command: /Library/Frameworks/R.framework/Resources/bin/R CMD INSTALL NADfinder StartedAt: 2025-01-30 17:34:06 -0500 (Thu, 30 Jan 2025) EndedAt: 2025-01-30 17:35:27 -0500 (Thu, 30 Jan 2025) EllapsedTime: 81.4 seconds RetCode: 0 Status: OK