Package: MultiDataSet Version: 1.34.0 Command: /home/biocbuild/R/R/bin/R CMD INSTALL MultiDataSet StartedAt: 2025-01-30 20:18:33 -0000 (Thu, 30 Jan 2025) EndedAt: 2025-01-30 20:19:02 -0000 (Thu, 30 Jan 2025) EllapsedTime: 29.1 seconds RetCode: 0 Status: OK