Package: MultiDataSet Version: 1.34.0 Command: /Library/Frameworks/R.framework/Resources/bin/R CMD check --install=check:MultiDataSet.install-out.txt --library=/Library/Frameworks/R.framework/Resources/library --no-vignettes --timings MultiDataSet_1.34.0.tar.gz StartedAt: 2025-01-31 07:05:20 -0500 (Fri, 31 Jan 2025) EndedAt: 2025-01-31 07:11:13 -0500 (Fri, 31 Jan 2025) EllapsedTime: 352.6 seconds RetCode: 0 Status: WARNINGS CheckDir: MultiDataSet.Rcheck Warnings: 1