Package: MultiBaC Version: 1.16.0 Command: /home/biocbuild/R/R/bin/R CMD check --install=check:MultiBaC.install-out.txt --library=/home/biocbuild/R/R/site-library --no-vignettes --timings MultiBaC_1.16.0.tar.gz StartedAt: 2025-01-31 08:29:55 -0000 (Fri, 31 Jan 2025) EndedAt: 2025-01-31 08:32:08 -0000 (Fri, 31 Jan 2025) EllapsedTime: 133.2 seconds RetCode: 0 Status: OK CheckDir: MultiBaC.Rcheck Warnings: 0