Package: MultiBaC Version: 1.16.0 Command: chmod a+r MultiBaC -R && F:\biocbuild\bbs-3.20-bioc\R\bin\R.exe CMD build --keep-empty-dirs --no-resave-data MultiBaC StartedAt: 2025-01-30 20:26:01 -0500 (Thu, 30 Jan 2025) EndedAt: 2025-01-30 20:27:38 -0500 (Thu, 30 Jan 2025) EllapsedTime: 97.3 seconds RetCode: 0 Status: OK PackageFile: MultiBaC_1.16.0.tar.gz PackageFileSize: 728.1 KiB