Package: MultiBaC Version: 1.16.0 Command: rm -rf MultiBaC.buildbin-libdir && mkdir MultiBaC.buildbin-libdir && /Users/biocbuild/BBS/utils/build-universal.sh MultiBaC_1.16.0.tar.gz /Library/Frameworks/R.framework/Resources/bin/R MultiBaC.buildbin-libdir StartedAt: 2025-02-01 15:56:20 -0500 (Sat, 01 Feb 2025) EndedAt: 2025-02-01 15:56:26 -0500 (Sat, 01 Feb 2025) EllapsedTime: 6.9 seconds RetCode: 0 Status: OK PackageFile: MultiBaC_1.16.0.tgz PackageFileSize: 1.805 MiB