Package: MsExperiment Version: 1.8.0 Command: /Library/Frameworks/R.framework/Resources/bin/R CMD INSTALL MsExperiment StartedAt: 2025-01-30 16:51:38 -0500 (Thu, 30 Jan 2025) EndedAt: 2025-01-30 16:52:14 -0500 (Thu, 30 Jan 2025) EllapsedTime: 36.4 seconds RetCode: 0 Status: OK