Package: MsDataHub Version: 1.6.0 Command: /home/biocbuild/R/R/bin/R CMD INSTALL MsDataHub StartedAt: 2025-01-30 20:23:08 -0000 (Thu, 30 Jan 2025) EndedAt: 2025-01-30 20:23:26 -0000 (Thu, 30 Jan 2025) EllapsedTime: 18.1 seconds RetCode: 0 Status: OK