Package: MsDataHub Version: 1.6.0 Command: /home/biocbuild/R/R/bin/R CMD build --keep-empty-dirs --no-resave-data MsDataHub StartedAt: 2025-01-31 01:09:17 -0000 (Fri, 31 Jan 2025) EndedAt: 2025-01-31 01:10:05 -0000 (Fri, 31 Jan 2025) EllapsedTime: 48.0 seconds RetCode: 1 Status: ERROR PackageFile: None PackageFileSize: NA