Package: MsDataHub Version: 1.6.0 Command: rm -rf MsDataHub.buildbin-libdir && mkdir MsDataHub.buildbin-libdir && F:\biocbuild\bbs-3.20-bioc\R\bin\R.exe CMD INSTALL --build --library=MsDataHub.buildbin-libdir MsDataHub_1.6.0.tar.gz StartedAt: 2025-01-31 09:06:52 -0500 (Fri, 31 Jan 2025) EndedAt: 2025-01-31 09:07:12 -0500 (Fri, 31 Jan 2025) EllapsedTime: 20.4 seconds RetCode: 0 Status: OK PackageFile: MsDataHub_1.6.0.zip PackageFileSize: 391.3 KiB