Package: MsBackendSql Version: 1.6.0 Command: /home/biocbuild/R/R/bin/R CMD check --install=check:MsBackendSql.install-out.txt --library=/home/biocbuild/R/R/site-library --no-vignettes --timings MsBackendSql_1.6.0.tar.gz StartedAt: 2025-01-31 08:23:15 -0000 (Fri, 31 Jan 2025) EndedAt: 2025-01-31 08:29:16 -0000 (Fri, 31 Jan 2025) EllapsedTime: 361.5 seconds RetCode: 0 Status: OK CheckDir: MsBackendSql.Rcheck Warnings: 0