Package: MsBackendSql Version: 1.6.0 Command: /Library/Frameworks/R.framework/Resources/bin/R CMD check --install=check:MsBackendSql.install-out.txt --library=/Library/Frameworks/R.framework/Resources/library --no-vignettes --timings MsBackendSql_1.6.0.tar.gz StartedAt: 2025-02-01 02:15:49 -0500 (Sat, 01 Feb 2025) EndedAt: 2025-02-01 02:21:58 -0500 (Sat, 01 Feb 2025) EllapsedTime: 369.3 seconds RetCode: 0 Status: OK CheckDir: MsBackendSql.Rcheck Warnings: 0