Package: MsBackendSql Version: 1.6.0 Command: rm -rf MsBackendSql.buildbin-libdir && mkdir MsBackendSql.buildbin-libdir && /Users/biocbuild/BBS/utils/build-universal.sh MsBackendSql_1.6.0.tar.gz /Library/Frameworks/R.framework/Resources/bin/R MsBackendSql.buildbin-libdir StartedAt: 2025-02-01 15:52:36 -0500 (Sat, 01 Feb 2025) EndedAt: 2025-02-01 15:52:54 -0500 (Sat, 01 Feb 2025) EllapsedTime: 18.0 seconds RetCode: 0 Status: OK PackageFile: MsBackendSql_1.6.0.tgz PackageFileSize: 604.1 KiB