Package: MsBackendMetaboLights Version: 1.0.0 Command: /home/biocbuild/bbs-3.20-bioc/R/bin/R CMD check --install=check:MsBackendMetaboLights.install-out.txt --library=/home/biocbuild/bbs-3.20-bioc/R/site-library --timings MsBackendMetaboLights_1.0.0.tar.gz StartedAt: 2025-01-31 00:16:05 -0500 (Fri, 31 Jan 2025) EndedAt: 2025-01-31 00:22:34 -0500 (Fri, 31 Jan 2025) EllapsedTime: 388.5 seconds RetCode: 0 Status: OK CheckDir: MsBackendMetaboLights.Rcheck Warnings: 0