Package: MoonlightR Version: 1.32.0 Command: /Library/Frameworks/R.framework/Resources/bin/R CMD INSTALL MoonlightR StartedAt: 2025-01-30 16:18:48 -0500 (Thu, 30 Jan 2025) EndedAt: 2025-01-30 16:21:00 -0500 (Thu, 30 Jan 2025) EllapsedTime: 132.2 seconds RetCode: 0 Status: OK