Package: MoonlightR Version: 1.32.0 Command: /home/biocbuild/R/R/bin/R CMD build --keep-empty-dirs --no-resave-data MoonlightR StartedAt: 2024-11-20 02:16:24 -0000 (Wed, 20 Nov 2024) EndedAt: 2024-11-20 02:19:09 -0000 (Wed, 20 Nov 2024) EllapsedTime: 164.2 seconds RetCode: 0 Status: OK PackageFile: MoonlightR_1.32.0.tar.gz PackageFileSize: 11.61 MiB