Package: Modstrings Version: 1.22.0 Command: /home/biocbuild/R/R/bin/R CMD check --install=check:Modstrings.install-out.txt --library=/home/biocbuild/R/R/site-library --no-vignettes --timings Modstrings_1.22.0.tar.gz StartedAt: 2025-01-31 08:15:15 -0000 (Fri, 31 Jan 2025) EndedAt: 2025-01-31 08:17:57 -0000 (Fri, 31 Jan 2025) EllapsedTime: 162.2 seconds RetCode: 0 Status: OK CheckDir: Modstrings.Rcheck Warnings: 0