Package: MineICA Version: 1.46.0 Command: /home/biocbuild/R/R/bin/R CMD check --install=check:MineICA.install-out.txt --library=/home/biocbuild/R/R/site-library --no-vignettes --timings MineICA_1.46.0.tar.gz StartedAt: 2025-01-31 08:06:51 -0000 (Fri, 31 Jan 2025) EndedAt: 2025-01-31 08:11:53 -0000 (Fri, 31 Jan 2025) EllapsedTime: 301.4 seconds RetCode: 0 Status: WARNINGS CheckDir: MineICA.Rcheck Warnings: 3