Package: MicrobiotaProcess Version: 1.18.0 Command: /home/biocbuild/R/R/bin/R CMD INSTALL MicrobiotaProcess StartedAt: 2025-01-30 20:53:05 -0000 (Thu, 30 Jan 2025) EndedAt: 2025-01-30 20:54:28 -0000 (Thu, 30 Jan 2025) EllapsedTime: 83.0 seconds RetCode: 0 Status: OK