Package: MicrobiotaProcess Version: 1.18.0 Command: /home/biocbuild/R/R/bin/R CMD build --keep-empty-dirs --no-resave-data MicrobiotaProcess StartedAt: 2025-01-31 00:54:29 -0000 (Fri, 31 Jan 2025) EndedAt: 2025-01-31 00:58:00 -0000 (Fri, 31 Jan 2025) EllapsedTime: 211.1 seconds RetCode: 0 Status: OK PackageFile: MicrobiotaProcess_1.18.0.tar.gz PackageFileSize: 3.748 MiB