Package: MicrobiomeProfiler Version: 1.12.0 Command: /home/biocbuild/R/R/bin/R CMD INSTALL MicrobiomeProfiler StartedAt: 2025-01-30 20:54:54 -0000 (Thu, 30 Jan 2025) EndedAt: 2025-01-30 20:55:23 -0000 (Thu, 30 Jan 2025) EllapsedTime: 28.7 seconds RetCode: 0 Status: OK