Package: MicrobiomeProfiler Version: 1.12.0 Command: chmod a+r MicrobiomeProfiler -R && F:\biocbuild\bbs-3.20-bioc\R\bin\R.exe CMD build --keep-empty-dirs --no-resave-data MicrobiomeProfiler StartedAt: 2025-01-30 20:06:59 -0500 (Thu, 30 Jan 2025) EndedAt: 2025-01-30 20:07:53 -0500 (Thu, 30 Jan 2025) EllapsedTime: 53.8 seconds RetCode: 0 Status: OK PackageFile: MicrobiomeProfiler_1.12.0.tar.gz PackageFileSize: 1.051 MiB