Package: MicrobiomeProfiler Version: 1.12.0 Command: /Library/Frameworks/R.framework/Resources/bin/R CMD check --install=check:MicrobiomeProfiler.install-out.txt --library=/Library/Frameworks/R.framework/Resources/library --no-vignettes --timings MicrobiomeProfiler_1.12.0.tar.gz StartedAt: 2025-01-31 06:27:07 -0500 (Fri, 31 Jan 2025) EndedAt: 2025-01-31 06:32:48 -0500 (Fri, 31 Jan 2025) EllapsedTime: 341.3 seconds RetCode: 0 Status: OK CheckDir: MicrobiomeProfiler.Rcheck Warnings: 0