Package: MicrobiomeProfiler Version: 1.12.0 Command: /Library/Frameworks/R.framework/Resources/bin/R CMD build --keep-empty-dirs --no-resave-data MicrobiomeProfiler StartedAt: 2025-01-31 03:18:19 -0500 (Fri, 31 Jan 2025) EndedAt: 2025-01-31 03:18:47 -0500 (Fri, 31 Jan 2025) EllapsedTime: 28.7 seconds RetCode: 0 Status: OK PackageFile: MicrobiomeProfiler_1.12.0.tar.gz PackageFileSize: 1.051 MiB