Package: MiPP Version: 1.78.0 Command: F:\biocbuild\bbs-3.20-bioc\R\bin\R.exe CMD INSTALL MiPP StartedAt: 2025-01-30 15:23:26 -0500 (Thu, 30 Jan 2025) EndedAt: 2025-01-30 15:23:41 -0500 (Thu, 30 Jan 2025) EllapsedTime: 15.5 seconds RetCode: 0 Status: OK