Package: MethylSeekR Version: 1.46.0 Command: F:\biocbuild\bbs-3.20-bioc\R\bin\R.exe CMD INSTALL MethylSeekR StartedAt: 2025-01-30 16:08:59 -0500 (Thu, 30 Jan 2025) EndedAt: 2025-01-30 16:09:45 -0500 (Thu, 30 Jan 2025) EllapsedTime: 45.3 seconds RetCode: 0 Status: OK